BEGIN:VCALENDAR
VERSION:2.0
PRODID:-//Science in Seattle - ECPv6.15.20//NONSGML v1.0//EN
CALSCALE:GREGORIAN
METHOD:PUBLISH
X-ORIGINAL-URL:https://scienceinseattle.com
X-WR-CALDESC:Events for Science in Seattle
REFRESH-INTERVAL;VALUE=DURATION:PT1H
X-Robots-Tag:noindex
X-PUBLISHED-TTL:PT1H
BEGIN:VTIMEZONE
TZID:UTC
BEGIN:STANDARD
TZOFFSETFROM:+0000
TZOFFSETTO:+0000
TZNAME:UTC
DTSTART:20210101T000000
END:STANDARD
END:VTIMEZONE
BEGIN:VEVENT
DTSTART;TZID=UTC:20220925T100000
DTEND;TZID=UTC:20220925T120000
DTSTAMP:20260425T032714
CREATED:20220815T193330Z
LAST-MODIFIED:20220815T193330Z
UID:19125-1664100000-1664107200@scienceinseattle.com
SUMMARY:Run of Hope 2022
DESCRIPTION:The Run of Hope Seattle is a 5k run or walk to raise money and awareness for pediatric brain tumor research at Seattle Children’s Hospital. Since 2009\, the Pediatric Brain Tumor Research Guild and Four Seasons Hotel Seattle have partnered to present this very special event. In recent years\, Run of Hope Seattle has become the most successful grassroots fundraising event for Seattle Children’s Guild Association\, sending more than $7 million for research. Join us for this year’s IN-PERSON event at Seward Park! \nRegistration opens at 8 am and the event starts at 10 am. \nMore information here: www.runofhopeseattle.org \n\n\nDate: Sunday\, Sept. 25\, 2022 10:00 a.m. – 12:00 p.m.\nLocation: 5900 Lake Washington Blvd S\, Seattle\, WA 98118\nContact: Kristie Berg kristieberg@hotmail.com 206-724-2476
URL:https://scienceinseattle.com/event/run-of-hope-2022/
LOCATION:Seward Park\, Seattle\, WA\, 98118\, United States
END:VEVENT
BEGIN:VEVENT
DTSTART;TZID=UTC:20220925T100000
DTEND;TZID=UTC:20220925T120000
DTSTAMP:20260425T032714
CREATED:20220815T193330Z
LAST-MODIFIED:20220815T193330Z
UID:25924-1664100000-1664107200@scienceinseattle.com
SUMMARY:Run of Hope 2022
DESCRIPTION:The Run of Hope Seattle is a 5k run or walk to raise money and awareness for pediatric brain tumor research at Seattle Children’s Hospital. Since 2009\, the Pediatric Brain Tumor Research Guild and Four Seasons Hotel Seattle have partnered to present this very special event. In recent years\, Run of Hope Seattle has become the most successful grassroots fundraising event for Seattle Children’s Guild Association\, sending more than $7 million for research. Join us for this year’s IN-PERSON event at Seward Park! \nRegistration opens at 8 am and the event starts at 10 am. \nMore information here: www.runofhopeseattle.org \n\n\nDate: Sunday\, Sept. 25\, 2022 10:00 a.m. – 12:00 p.m.\nLocation: 5900 Lake Washington Blvd S\, Seattle\, WA 98118\nContact: Kristie Berg kristieberg@hotmail.com 206-724-2476
URL:https://scienceinseattle.com/event/run-of-hope-2022-2/
LOCATION:Seward Park\, Seattle\, WA\, 98118\, United States
END:VEVENT
BEGIN:VEVENT
DTSTART;TZID=UTC:20220925T100000
DTEND;TZID=UTC:20220925T120000
DTSTAMP:20260425T032714
CREATED:20220815T193330Z
LAST-MODIFIED:20220815T193330Z
UID:26888-1664100000-1664107200@scienceinseattle.com
SUMMARY:Run of Hope 2022
DESCRIPTION:The Run of Hope Seattle is a 5k run or walk to raise money and awareness for pediatric brain tumor research at Seattle Children’s Hospital. Since 2009\, the Pediatric Brain Tumor Research Guild and Four Seasons Hotel Seattle have partnered to present this very special event. In recent years\, Run of Hope Seattle has become the most successful grassroots fundraising event for Seattle Children’s Guild Association\, sending more than $7 million for research. Join us for this year’s IN-PERSON event at Seward Park! \nRegistration opens at 8 am and the event starts at 10 am. \nMore information here: www.runofhopeseattle.org \n\n\nDate: Sunday\, Sept. 25\, 2022 10:00 a.m. – 12:00 p.m.\nLocation: 5900 Lake Washington Blvd S\, Seattle\, WA 98118\nContact: Kristie Berg kristieberg@hotmail.com 206-724-2476
URL:https://scienceinseattle.com/event/run-of-hope-2022-3/
LOCATION:Seward Park\, Seattle\, WA\, 98118\, United States
END:VEVENT
END:VCALENDAR