BEGIN:VCALENDAR
VERSION:2.0
PRODID:-//Science in Seattle - ECPv6.15.20//NONSGML v1.0//EN
CALSCALE:GREGORIAN
METHOD:PUBLISH
X-WR-CALNAME:Science in Seattle
X-ORIGINAL-URL:https://scienceinseattle.com
X-WR-CALDESC:Events for Science in Seattle
REFRESH-INTERVAL;VALUE=DURATION:PT1H
X-Robots-Tag:noindex
X-PUBLISHED-TTL:PT1H
BEGIN:VTIMEZONE
TZID:America/Vancouver
BEGIN:DAYLIGHT
TZOFFSETFROM:-0800
TZOFFSETTO:-0700
TZNAME:PDT
DTSTART:20210314T100000
END:DAYLIGHT
BEGIN:STANDARD
TZOFFSETFROM:-0700
TZOFFSETTO:-0800
TZNAME:PST
DTSTART:20211107T090000
END:STANDARD
BEGIN:DAYLIGHT
TZOFFSETFROM:-0800
TZOFFSETTO:-0700
TZNAME:PDT
DTSTART:20220313T100000
END:DAYLIGHT
BEGIN:STANDARD
TZOFFSETFROM:-0700
TZOFFSETTO:-0800
TZNAME:PST
DTSTART:20221106T090000
END:STANDARD
BEGIN:DAYLIGHT
TZOFFSETFROM:-0800
TZOFFSETTO:-0700
TZNAME:PDT
DTSTART:20230312T100000
END:DAYLIGHT
BEGIN:STANDARD
TZOFFSETFROM:-0700
TZOFFSETTO:-0800
TZNAME:PST
DTSTART:20231105T090000
END:STANDARD
END:VTIMEZONE
BEGIN:VEVENT
DTSTART;TZID=America/Vancouver:20221006T120000
DTEND;TZID=America/Vancouver:20221006T133000
DTSTAMP:20260421T081237
CREATED:20220922T174425Z
LAST-MODIFIED:20220922T174425Z
UID:19602-1665057600-1665063000@scienceinseattle.com
SUMMARY:Making Life Science Laboratories Sustainable
DESCRIPTION:Looking to improve the sustainability of your laboratory operations? Did you know that a recent study (2021) by the global nonprofit My Green Lab found that the global biotechnology and pharmaceutical industry has a carbon footprint larger than the semiconductor industry\, the forestry & paper industry\, and equal to nearly half the annual emissions of the United Kingdom? Laboratories consume 5-10x more energy than offices and are major contributors to the global carbon footprint. \nHear from regional leaders who have taken significant steps to reduce footprints and create corporate sustainability cultures. Attend this free webinar to learn how you can green your laboratory operations and take part in post-event discussions and networking groups. \nProduced by Life Science WA and My Green Lab
URL:https://scienceinseattle.com/event/making-life-science-laboratories-sustainable/
LOCATION:Online
ATTACH;FMTTYPE=image/png:https://scienceinseattle.com/wp-content/uploads/sites/4/2022/09/unnamed-3.png
ORGANIZER;CN="Life Science Washington":MAILTO:kaitlyn@lifesciencewa.org
END:VEVENT
BEGIN:VEVENT
DTSTART;TZID=America/Vancouver:20221006T120000
DTEND;TZID=America/Vancouver:20221006T133000
DTSTAMP:20260421T081237
CREATED:20220922T174425Z
LAST-MODIFIED:20220922T174425Z
UID:25936-1665057600-1665063000@scienceinseattle.com
SUMMARY:Making Life Science Laboratories Sustainable
DESCRIPTION:Looking to improve the sustainability of your laboratory operations? Did you know that a recent study (2021) by the global nonprofit My Green Lab found that the global biotechnology and pharmaceutical industry has a carbon footprint larger than the semiconductor industry\, the forestry & paper industry\, and equal to nearly half the annual emissions of the United Kingdom? Laboratories consume 5-10x more energy than offices and are major contributors to the global carbon footprint. \nHear from regional leaders who have taken significant steps to reduce footprints and create corporate sustainability cultures. Attend this free webinar to learn how you can green your laboratory operations and take part in post-event discussions and networking groups. \nProduced by Life Science WA and My Green Lab
URL:https://scienceinseattle.com/event/making-life-science-laboratories-sustainable-2/
LOCATION:Online
ATTACH;FMTTYPE=image/png:https://scienceinseattle.com/wp-content/uploads/sites/4/2022/09/unnamed-3.png
ORGANIZER;CN="Life Science Washington":MAILTO:kaitlyn@lifesciencewa.org
END:VEVENT
BEGIN:VEVENT
DTSTART;TZID=America/Vancouver:20221006T120000
DTEND;TZID=America/Vancouver:20221006T133000
DTSTAMP:20260421T081237
CREATED:20220922T174425Z
LAST-MODIFIED:20220922T174425Z
UID:26900-1665057600-1665063000@scienceinseattle.com
SUMMARY:Making Life Science Laboratories Sustainable
DESCRIPTION:Looking to improve the sustainability of your laboratory operations? Did you know that a recent study (2021) by the global nonprofit My Green Lab found that the global biotechnology and pharmaceutical industry has a carbon footprint larger than the semiconductor industry\, the forestry & paper industry\, and equal to nearly half the annual emissions of the United Kingdom? Laboratories consume 5-10x more energy than offices and are major contributors to the global carbon footprint. \nHear from regional leaders who have taken significant steps to reduce footprints and create corporate sustainability cultures. Attend this free webinar to learn how you can green your laboratory operations and take part in post-event discussions and networking groups. \nProduced by Life Science WA and My Green Lab
URL:https://scienceinseattle.com/event/making-life-science-laboratories-sustainable-3/
LOCATION:Online
ATTACH;FMTTYPE=image/png:https://scienceinseattle.com/wp-content/uploads/sites/4/2022/09/unnamed-3.png
ORGANIZER;CN="Life Science Washington":MAILTO:kaitlyn@lifesciencewa.org
END:VEVENT
END:VCALENDAR