BEGIN:VCALENDAR
VERSION:2.0
PRODID:-//Science in Seattle - ECPv6.15.20//NONSGML v1.0//EN
CALSCALE:GREGORIAN
METHOD:PUBLISH
X-WR-CALNAME:Science in Seattle
X-ORIGINAL-URL:https://scienceinseattle.com
X-WR-CALDESC:Events for Science in Seattle
REFRESH-INTERVAL;VALUE=DURATION:PT1H
X-Robots-Tag:noindex
X-PUBLISHED-TTL:PT1H
BEGIN:VTIMEZONE
TZID:America/Vancouver
BEGIN:DAYLIGHT
TZOFFSETFROM:-0800
TZOFFSETTO:-0700
TZNAME:PDT
DTSTART:20230312T100000
END:DAYLIGHT
BEGIN:STANDARD
TZOFFSETFROM:-0700
TZOFFSETTO:-0800
TZNAME:PST
DTSTART:20231105T090000
END:STANDARD
BEGIN:DAYLIGHT
TZOFFSETFROM:-0800
TZOFFSETTO:-0700
TZNAME:PDT
DTSTART:20240310T100000
END:DAYLIGHT
BEGIN:STANDARD
TZOFFSETFROM:-0700
TZOFFSETTO:-0800
TZNAME:PST
DTSTART:20241103T090000
END:STANDARD
BEGIN:DAYLIGHT
TZOFFSETFROM:-0800
TZOFFSETTO:-0700
TZNAME:PDT
DTSTART:20250309T100000
END:DAYLIGHT
BEGIN:STANDARD
TZOFFSETFROM:-0700
TZOFFSETTO:-0800
TZNAME:PST
DTSTART:20251102T090000
END:STANDARD
END:VTIMEZONE
BEGIN:VEVENT
DTSTART;TZID=America/Vancouver:20240808T160000
DTEND;TZID=America/Vancouver:20240808T180000
DTSTAMP:20260422T021652
CREATED:20240724T211209Z
LAST-MODIFIED:20240724T212734Z
UID:29999-1723132800-1723140000@scienceinseattle.com
SUMMARY:Nucleate Seattle Genesis Lecture Series: Principles of Ideation
DESCRIPTION:Nucleate Seattle is excited to announce that we are hosting a panel on the Principles of\nIdeation for biotech start-ups. Hear from local Seattle experts as they reveal how they built their\ncompanies from initial conceptions into reality! This event will offer practical advice on\ntransitioning from academia to bio-entrepreneurship\, ideation of a company\, and insights into\novercoming the initial challenges of starting your own biotech company. Don’t miss this chance\nto learn from and network with local industry leaders!\n\nThe Genesis Lecture Series is designed to illuminate the path from conception to commercialization of life science companies to trainees of all levels in the Seattle area.\n\n\n\nLearn more and register here!
URL:https://scienceinseattle.com/event/nucleate-seattle-genesis-lecture-series-principles-of-ideation/
LOCATION:Arthur W. Buerk Center for Entrepreneurship\, 4215 E Stevens Way NE\, Seattle\, WA\, 98195\, United States
ATTACH;FMTTYPE=image/png:https://scienceinseattle.com/wp-content/uploads/sites/4/2024/07/1_Individual-Lecture-Flyer_V3.png
ORGANIZER;CN="Nucleate":MAILTO:seattle@nucleate.xyz
END:VEVENT
BEGIN:VEVENT
DTSTART;TZID=America/Vancouver:20240808T173000
DTEND;TZID=America/Vancouver:20240808T190000
DTSTAMP:20260422T021652
CREATED:20240711T225823Z
LAST-MODIFIED:20240711T225823Z
UID:29833-1723138200-1723143600@scienceinseattle.com
SUMMARY:The Brain? IDK! What We Know and Don’t Know About Brain Cells.
DESCRIPTION:Join us to learn more about what we don’t know about the brain! \nWhy are we talking about what we don’t know rather than what we do know? It sounds counterintuitive\, but understanding where gaps in knowledge exist in our understanding of the brain helps to guide future research here at the Allen Institute and across the field of neuroscience. The goal of this research is to gain insights into how the brain works so that we know better ways to fix it when something goes wrong. \nThis event is geared towards adults across the community and is suitable for audiences high school and up. \n*We strongly recommend pre-registering to guarantee space at the event. Limited walk-in capacity will also be available.* \n*This event is FREE*
URL:https://scienceinseattle.com/event/the-brain-idk-what-we-know-and-dont-know-about-brain-cells/
LOCATION:Allen Institute\, 615 Westlake Avenue N\, Seattle\, WA\, United States
ATTACH;FMTTYPE=image/jpeg:https://scienceinseattle.com/wp-content/uploads/sites/4/2024/07/InternPublicEvent_BRAIN_IDK_banner_01.jpg
END:VEVENT
BEGIN:VEVENT
DTSTART;TZID=America/Vancouver:20240813T063000
DTEND;TZID=America/Vancouver:20240813T203000
DTSTAMP:20260422T021652
CREATED:20240723T223137Z
LAST-MODIFIED:20240723T223137Z
UID:29979-1723530600-1723581000@scienceinseattle.com
SUMMARY:Metabarcoding for Microbial Ecology
DESCRIPTION:Our world is littered with microbial life. From the phytoplankton in the oceans to the bacteria in your gut to the mycorrhizae that form connections between plants in a forest\, it is not an overstatement to say that we wouldn’t be alive without them. \nIn this 5-week course\, you will learn a powerful technique for using genetic information to explore the complexity of the microbial world. \nSessions will be held every Tuesday evening starting August 13 until September 10\, 6:30 to 8:30 pm. \nYOU WILL LEARN\n\n\nIdentify the major groups of microbes and how they differ from each other \n\n\nExtract DNA from soil\, water\, and similar environmental samples \n\n\nAmplify\, isolate\, and purify target DNA using PCR and gel electrophoresis \n\n\nUse cutting-edge software to analyze sequence data \n\n\nRegister today!!
URL:https://scienceinseattle.com/event/metabarcoding-for-microbial-ecology/
LOCATION:SoundBio Lab\, 1100 Northeast 47th Street #103Seattle\, WA\, 98105\, United States
END:VEVENT
BEGIN:VEVENT
DTSTART;TZID=America/Vancouver:20240815T160000
DTEND;TZID=America/Vancouver:20240815T180000
DTSTAMP:20260422T021652
CREATED:20240724T211458Z
LAST-MODIFIED:20240724T212736Z
UID:30009-1723737600-1723744800@scienceinseattle.com
SUMMARY:Nucleate Seattle Genesis Lecture Series: Team Formation and Sourcing
DESCRIPTION:Nucleate Seattle is excited to announce we are hosting a panel on Team Formation for biotech start-ups. Discover what it takes to assemble a strong and diverse team essential for a biotech company’s success from local industry experts. This event will provide practical advice on team building\, leveraging networks\, and overcoming the early challenges of starting a biotech company. Don’t miss this chance to learn from and network with local industry leaders! \n\nThe Genesis Lecture Series is designed to illuminate the path from conception to commercialization of life science companies to trainees of all levels in the Seattle area.\n\n\n\nLearn more and register here!
URL:https://scienceinseattle.com/event/nucleate-seattle-genesis-lecture-series-team-formation-and-sourcing/
LOCATION:Arthur W. Buerk Center for Entrepreneurship\, 4215 E Stevens Way NE\, Seattle\, WA\, 98195\, United States
ATTACH;FMTTYPE=image/png:https://scienceinseattle.com/wp-content/uploads/sites/4/2024/07/2_Individual-Lecture-Flyer_V3.png
ORGANIZER;CN="Nucleate":MAILTO:seattle@nucleate.xyz
END:VEVENT
BEGIN:VEVENT
DTSTART;TZID=America/Vancouver:20240815T163000
DTEND;TZID=America/Vancouver:20240815T190000
DTSTAMP:20260422T021652
CREATED:20240611T184755Z
LAST-MODIFIED:20240611T184755Z
UID:29476-1723739400-1723748400@scienceinseattle.com
SUMMARY:Life Science Washington Annual Summer Social 2024
DESCRIPTION:Step right up\, ladies and gentlemen\, to the most spectacular event of the summer! On Thursday\, August 15\, join us for this year’s annual Summer Social. \nPrepare to be amazed as you mingle and network with the vibrant life sciences community against the breathtaking backdrop of the Seattle skyline from our rooftop deck\, all while indulging in delicious food and drinks. Let the magic of the circus inspire you as you arrive in your most fun and festive attire – channel your inner ringmaster\, clown\, strong person\, or embrace the circus theme in your own unique way. \nDon’t miss out on this unforgettable experience. Join us under the big top for a night of fun\, food\, and fantastic views! \nTICKETS – Register Early and Save:\n• Early bird for Core\, Institute\, Affiliate Members: $50 After August 9: $80\n• Early bird for Associate Members: $60 After August 9: $80\n• Early bird for Non-member Core\, Institute\, Affiliate: $80 After August 9: $100\n• Early bird for Non-member Associate: $175 After August 9: $250 \nLimited volunteer opportunities are available for students. Please email Craig Mathews at craig@lifesciencewa.org for more information. \nGet your tickets now!
URL:https://scienceinseattle.com/event/life-science-washington-annual-summer-social-2024/
LOCATION:188 E Blaine St
ATTACH;FMTTYPE=image/png:https://scienceinseattle.com/wp-content/uploads/sites/4/2024/06/SummerSocial24-BigTop-v2-1536x859-1.png
ORGANIZER;CN="Life Science Washington":MAILTO:katy@lifesciencewa.org
END:VEVENT
BEGIN:VEVENT
DTSTART;TZID=America/Vancouver:20240818T080000
DTEND;TZID=America/Vancouver:20240901T170000
DTSTAMP:20260422T021652
CREATED:20240611T183649Z
LAST-MODIFIED:20240611T183649Z
UID:29449-1723968000-1725210000@scienceinseattle.com
SUMMARY:Summer Workshop on the Dynamic Brain 2024
DESCRIPTION:About This Event\n\nFounded by Adrienne Fairhall and Christof Koch\, the Summer Workshop on the Dynamic Brain is co-hosted by the Allen Institute and the Computational Neuroscience Center at the University of Washington. It is directed by Drs. Michael A. Buice\, Saskia de Vries\, Adrienne Fairhall\, Shawn Olsen\, and Eric Shea-Brown. \nThe workshop is geared towards Ph.D. students and postdoctoral fellows in neuroscience\, biology\, physics\, engineering\, and computer science as well as other early-career researchers at the equivalent level. Ideal candidates have a planned or established research agenda related to the course topics such as neuroanatomy and neurophysiology; neuronal cell types; connectomics; optical and electrophysiological methods for measuring and analyzing cell populations; theories and modeling of neocortex and associated structures; big data approaches; and perceptual and behavioral neuroscience with a focus on the visual system. \nAll tutorials and software packages in the course use the Python programming language. The workshop includes an optional Python bootcamp and ongoing software tutorials in modeling\, data analysis\, and computational methods. While previous experience with Python is not required or expected\, it is highly recommended that students have some previous coding experience. \nStudents will have the opportunity to receive training with featured large-scale datasets generated by the Allen Institute. Examples from past workshops include the Allen Brain Observatory Visual Coding and Neuropixels datasets. Other Allen Institute resources are available also for students to explore. \nA core component of the workshop curriculum is the completion of short research projects. With faculty guidance\, students collaborate in teams to develop and carry out a project that explores the featured open data sets. Student teams present their project proposals at the end of the first week of the course and the outcome of their work at the conclusion of the workshop to faculty and fellow participants. Previous projects from this course have been developed into publications and presented at scientific conferences.
URL:https://scienceinseattle.com/event/summer-workshop-on-the-dynamic-brain-2024/
LOCATION:Friday Harbor\, Washington
ATTACH;FMTTYPE=image/jpeg:https://scienceinseattle.com/wp-content/uploads/sites/4/2024/06/SWDB-Header.jpg
END:VEVENT
BEGIN:VEVENT
DTSTART;TZID=America/Vancouver:20240822T160000
DTEND;TZID=America/Vancouver:20240822T180000
DTSTAMP:20260422T021652
CREATED:20240724T211722Z
LAST-MODIFIED:20240724T212811Z
UID:30012-1724342400-1724349600@scienceinseattle.com
SUMMARY:Nucleate Seattle Genesis Lecture Series: Market Identification
DESCRIPTION:Nucleate Seattle is excited to announce we are hosting a panel on Market Identification for biotech start-ups. This panel will feature local Seattle experts and seasoned mentors that have moved multiple technologies toward commercialization. Gain insights on how to identify the right market for your biotech innovation! This event will offer practical advice on transitioning from academia to bio-entrepreneurship\, and ensure your biotech innovation will meet market demands. Don’t miss this opportunity to learn from and network with local industry leaders! \nThe Genesis Lecture Series is designed to illuminate the path from conception to commercialization of life science companies to trainees of all levels in the Seattle area. \nLearn more and register here!
URL:https://scienceinseattle.com/event/nucleate-seattle-genesis-lecture-series-market-identification/
LOCATION:Arthur W. Buerk Center for Entrepreneurship\, 4215 E Stevens Way NE\, Seattle\, WA\, 98195\, United States
ATTACH;FMTTYPE=image/png:https://scienceinseattle.com/wp-content/uploads/sites/4/2024/07/3_Individual-Lecture-Flyer_V3.png
ORGANIZER;CN="Nucleate":MAILTO:seattle@nucleate.xyz
END:VEVENT
BEGIN:VEVENT
DTSTART;TZID=America/Vancouver:20240824T200000
DTEND;TZID=America/Vancouver:20240824T213000
DTSTAMP:20260422T021652
CREATED:20240821T201633Z
LAST-MODIFIED:20240821T201633Z
UID:30362-1724529600-1724535000@scienceinseattle.com
SUMMARY:Gaggle of Geeks gets Naughty but Nerdy!
DESCRIPTION:“Geeky Comedy Seattle and Naughty but Nerdy team up for a hilarious and titillating comedy showcase featuring local and visiting comedians! \nLine-up:\nNaomi Fitter\, Juno Men\, Bert Walpack\, Sarah Hagen\, and Valerie Benti \nDetails:\nVermillion\, 1508 11th Ave\, Seattle\nDoors at 7:30pm\, show at 8pm\nSliding scale $10-20.”
URL:https://scienceinseattle.com/event/gaggle-of-geeks-gets-naughty-but-nerdy/
LOCATION:Vermillion\, 1508 11th Ave\, Seattle\, 98122-3904\, United States
ATTACH;FMTTYPE=image/png:https://scienceinseattle.com/wp-content/uploads/sites/4/2024/08/8b1fd6ce-68ce-43e9-8ded-273da9eb1279.png
END:VEVENT
BEGIN:VEVENT
DTSTART;TZID=America/Vancouver:20240828T080000
DTEND;TZID=America/Vancouver:20240828T090000
DTSTAMP:20260422T021652
CREATED:20240611T182719Z
LAST-MODIFIED:20240611T182719Z
UID:29430-1724832000-1724835600@scienceinseattle.com
SUMMARY:Seattle BioTech & Bagels Morning Meetup
DESCRIPTION:Seattle is arguably one of the top cities for growth thanks to the confluence of top universities\, hospitals\, research institutes\, and a vibrant biotech startup community. Now is the right time to cross-pollinate these sectors through a centralized networking group. Meet local Biotechnology and IT professionals\, entrepreneurs\, and enthusiasts to network and discuss healthcare IT\, medical devices\, cell biology\, life science research\, clinical trials\, pharmaceuticals\, drug discovery start-ups as well as the innovation and technology that powers it all. \n  \nGet the link! \n 
URL:https://scienceinseattle.com/event/seattle-biotech-bagels-morning-meetup/
ATTACH;FMTTYPE=image/jpeg:https://scienceinseattle.com/wp-content/uploads/sites/4/2024/06/Screenshot-2024-06-11-112700.jpg
END:VEVENT
BEGIN:VEVENT
DTSTART;TZID=America/Vancouver:20240829T160000
DTEND;TZID=America/Vancouver:20240829T180000
DTSTAMP:20260422T021652
CREATED:20240724T211918Z
LAST-MODIFIED:20240724T212901Z
UID:30015-1724947200-1724954400@scienceinseattle.com
SUMMARY:Nucleate Seattle Genesis Lecture Series: Scientific Strategy
DESCRIPTION:Nucleate Seattle is thrilled to announce we are hosting a panel on Scientific Strategy for biotech start-ups. Come learn how the scientific decisions of life science ventures are made from local industry experts. This event will provide practical advice on transitioning from academia to bio-entrepreneurship and how to approach product discovery and validation for a new biotech company. Don’t miss this opportunity to learn from and network with local industry leaders! \nThe Genesis Lecture Series is designed to illuminate the path from conception to commercialization of life science companies to trainees of all levels in the Seattle area. \nLearn more and register here!
URL:https://scienceinseattle.com/event/nucleate-seattle-genesis-lecture-series-scientific-strategy/
LOCATION:Arthur W. Buerk Center for Entrepreneurship\, 4215 E Stevens Way NE\, Seattle\, WA\, 98195\, United States
ATTACH;FMTTYPE=image/png:https://scienceinseattle.com/wp-content/uploads/sites/4/2024/07/4_Individual-Lecture-Flyer_V3.png
ORGANIZER;CN="Nucleate":MAILTO:seattle@nucleate.xyz
END:VEVENT
END:VCALENDAR